BEGIN:VCALENDAR
VERSION:2.0
PRODID:-//ChamberMaster//Event Calendar 2.0//EN
METHOD:PUBLISH
X-PUBLISHED-TTL:P3D
REFRESH-INTERVAL:P3D
CALSCALE:GREGORIAN
BEGIN:VEVENT
DTSTART:20131022T200000Z
DTEND:20131022T230000Z
X-MICROSOFT-CDO-ALLDAYEVENT:FALSE
SUMMARY:2013 10/22/13 Multi-Chamber Biz-To-Biz Expo & Taste
DESCRIPTION:Multi-Chamber Biz-To-Biz Expo & Taste\n\nJoin members of Buffalo Grove Area\, Des Plaines\, Morton Grove\, Niles\, Park Ridge\, Skokie and Wheeling/Prospect Heights Chambers of Commerce for a fun\, filled afternoon of networking and  tastings from local vendors. Business owners\, managers\, employees and home-based businesses from the area are invite to attend at no charge\, with a business card the only requirement for entry. \n\n\n\nDon't miss the opportunity to showcase your business at this event. Limited table sponsorship
X-ALT-DESC;FMTTYPE=text/html:Multi-Chamber Biz-To-Biz Expo &amp\; Taste<br />\nJoin members of Buffalo Grove Area\, Des Plaines\, Morton Grove\, Niles\, Park Ridge\, Skokie and Wheeling/Prospect Heights Chambers of Commerce for a fun\, filled afternoon of networking and &nbsp\;tastings from local vendors. Business owners\, managers\, employees and home-based businesses from the area are invite to attend at no charge\, with a business card the only requirement for entry.&nbsp\;<br />\n<br />\nDon&#39\;t miss the opportunity to showcase your business at this event. Limited table sponsorship
LOCATION:Victoria In The Park 1700 South Elmhurst Road Mount Prospect\, IL 60056
UID:e.362.2607
SEQUENCE:3
DTSTAMP:20260422T040226Z
URL:https://members.skokiechamber.org/events/details/2013-10-22-13-multi-chamber-biz-to-biz-expo-taste-10-22-2013-2607
END:VEVENT

END:VCALENDAR
