BEGIN:VCALENDAR
VERSION:2.0
PRODID:-//ChamberMaster//Event Calendar 2.0//EN
METHOD:PUBLISH
X-PUBLISHED-TTL:P3D
REFRESH-INTERVAL:P3D
CALSCALE:GREGORIAN
BEGIN:VEVENT
DTSTART:20160525T170000Z
DTEND:20160525T183000Z
X-MICROSOFT-CDO-ALLDAYEVENT:FALSE
SUMMARY:2016 05/25/16: Women in Business
DESCRIPTION:Women in Business\n\n"Innovative Approaches to Managing Stress & Anxiety in the Workplace and at Home"\n\n\n\nStress and anxiety impacts our ability to be productive\, generate income\, and achieve the work/life balance we would all like to have. Please join us at this month's Women In Business for a panel discussion led by Rachel Dubrow\, LCSW\, Amy Landolt of Northshore Acupuncture Center LLC\, and Kathy Kessenich of Well Being\, Massage Therapy & Wellness as they discuss the impact of stress on our work and innovative approaches and strategies for managing stress and anxiety.\n\n\n\nLunch and network with Skokie's businesswomen. These monthly presentations will help you build your networking and business skills.\n\n\n\nRachel Dubrow\, LCSW is a clinical social worker in private practice. She has a Master's Degree in Social Work from Washington University in St. Louis and is an adjunct professor in the University of New England's School of Social Work. She has a passion for helping adults of all ages find work/life balance\, manage stress\, and reach their own interpersonal goals.\n\n\n\nAmy Landolt is the owner of Northshore Acupuncture Center and a Licensed Acupuncturist who specializes in the treatment of anxiety\, sleeping issues\, and menopausal symptoms.\n\n\n\nKathy Kessenich owns Well Being Massage Therapy and Wellness. She sees herself as a health facilitator working in partnership with people who seek her services and provides a safe\, comfortable\, soothing environment in which people can be themselves\, let go of their stresses\, and have the opportunity to make positive changes to improve their overall health and quality of life.  \n\n\n\nWomen In Business is presented by AT&T and \n\nSlavin Farmers Insurance.
X-ALT-DESC;FMTTYPE=text/html:<br />\n<span style="font-size:16px\;"><strong>Women in Business</strong></span>\n\n<p><span style="font-size:14px\;"><span style="font-family:arial\;"><span style="line-height: normal\;"><span style="font-size:16px\;"><strong>&quot\;Innovative Approaches to Managing Stress &amp\; Anxiety in the Workplace and at Home&quot\;</strong></span><br />\n<br />\nStress and anxiety impacts our ability to be productive\, generate income\, and achieve the work/life balance we would all like to have. Please join us at this month&#39\;s Women In Business for a panel discussion&nbsp\;led by&nbsp\;Rachel Dubrow\, LCSW\, Amy Landolt&nbsp\;of Northshore Acupuncture Center LLC\, and Kathy Kessenich of Well Being\, Massage Therapy &amp\; Wellness as they discuss the impact of stress on our work and&nbsp\;innovative approaches and strategies for managing stress and anxiety.<br />\n<br />\nLunch and network with Skokie&#39\;s businesswomen. These monthly presentations will help you build your networking and business skills.</span></span></span><br />\n<br />\n<span style="font-family:arial\;"><span style="font-size:14px\;"><span style="line-height: normal\;">Rachel Dubrow\, LCSW is a clinical social worker in private practice. She has a Master&#39\;s Degree in Social Work from Washington University in St. Louis and is an adjunct professor in the University of New England&#39\;s School of Social Work. She has a passion for helping adults of all ages find work/life balance\, manage stress\, and reach their own interpersonal goals.</span><br />\n<br />\n<span style="background-color: rgb(255\, 255\, 255)\;">Amy Landolt is the owner of Northshore Acupuncture Center and a Licensed Acupuncturist who specializes in the treatment of anxiety</span><span style="background-color: rgb(255\, 255\, 255)\;">\,&nbsp\;</span><span style="background-color: rgb(255\, 255\, 255)\;">sleeping issues\, and menopausal symptoms.</span><br />\n<br />\nKathy Kessenich owns Well Being Massage Therapy and Wellness.&nbsp\;She sees herself as a health facilitator working in partnership with people who seek her services and provides a safe\, comfortable\, soothing environment in which people can be themselves\, let go of their stresses\, and have the opportunity to make positive changes to improve their overall health and quality of life.&nbsp\;&nbsp\;</span></span><br />\n<br />\n<strong style="font-family: arial\; font-size: 16px\; line-height: 25.6px\;">Women In Business is presented by&nbsp\;AT&amp\;T&nbsp\;and&nbsp\;<br />\nSlavin&nbsp\;Farmers Insurance.</strong></p>\n
LOCATION:Skokie Public Library 2nd Floor Business Center 5215 Oakton Street Skokie\, Illinois 60077
UID:e.362.3248
SEQUENCE:3
DTSTAMP:20260421T220249Z
URL:https://members.skokiechamber.org/events/details/2016-05-25-16-women-in-business-3248
END:VEVENT

END:VCALENDAR
