BEGIN:VCALENDAR
VERSION:2.0
PRODID:-//ChamberMaster//Event Calendar 2.0//EN
METHOD:PUBLISH
X-PUBLISHED-TTL:P3D
REFRESH-INTERVAL:P3D
CALSCALE:GREGORIAN
BEGIN:VEVENT
DTSTART:20160922T130000Z
DTEND:20160922T143000Z
X-MICROSOFT-CDO-ALLDAYEVENT:FALSE
SUMMARY:2016 09/22/16: Commercial Property Reassessment Info Session with Assessor Bagnall - CANCELED
DESCRIPTION:Commercial Property Reassessment Info Session with Assessor Bagnall\n\n\n\nThis event has been canceled. Please contact the Niles Township Assessor at (847) 673-9300 for questions regarding Property Tax Reassessments. \n\n\n\nNiles Township Assessor Scott Bagnall will discuss the 2016 reassessment and its potential impact on commercial properties. Cook County will use the 2016 assessed values in calculating the 2016\, 2017\, and 2018 property tax bills. Because of the influence of property tax bills on commercial market value\, taxpayers should analyze assessed values for accuracy. And year one of the assessment period\, which is right now\, is the best time to check Cook County's stated values. Bring your questions and/or your 2015 2nd Installment Tax Bills and/or your notice of proposed reassessment. \n\n\n\nScott Bagnall is an attorney with over twenty years experience in his Chicago Loop law practice. He is a Certified Illinois Assessing Officer and a licensed Illinois Real Estate Managing Broker. Scott also serves as Niles Township Assessor. He frequently sponsors appeal workshops and has assisted residential and commercial taxpayers and clients in numerous tax appeals and other real estate matters. As Niles Township Assessor he does not set market values\, agency levies or tax rates and therefore does not have to defend values set by others and is free from bias in his ability to help the local taxpayers.
X-ALT-DESC;FMTTYPE=text/html:<p><span style="font-family: arial\;"><span style="font-size: 16px\; line-height: 25.6px\;"><b><u>Commercial Property Reassessment Info Session with Assessor Bagnall</u></b></span><br />\n<br />\n<span style="color:#FF0000\;"><strong>This event has been canceled. Please contact the Niles Township Assessor at (847) 673-9300 for questions regarding Property Tax Reassessments.&nbsp\;</strong></span><br />\n<br />\n<span style="font-size: 14px\;">Niles Township Assessor Scott </span>Bagnall<span style="font-size: 14px\;"> will discuss the 2016 reassessment and its potential impact on commercial properties.&nbsp\;Cook County will use the 2016 assessed values in calculating the 2016\, 2017\, and 2018 property tax bills. Because of the influence of property tax bills on commercial market value\, taxpayers should analyze assessed values for accuracy. And year one of the assessment period\, which is right now\, is the best time to check Cook County&rsquo\;s stated values. Bring your questions and/or your 2015 2</span><sup style="font-size: 14px\;">nd</sup><span style="font-size: 14px\;"> Installment Tax Bills and/or your notice of proposed reassessment.&nbsp\;</span><br />\n<br />\n<span style="font-size: 14px\;">Scott </span>Bagnall<span style="font-size: 14px\;"> is an attorney with over twenty years experience in his Chicago Loop law practice. He is a Certified Illinois Assessing Officer and a licensed Illinois Real Estate Managing Broker. Scott also serves as Niles Township Assessor. He frequently sponsors appeal workshops and has assisted residential and commercial taxpayers and clients in numerous tax appeals and other real estate matters. As Niles Township Assessor he does not set market values\, agency levies or tax rates and therefore does not have to defend values set by others and is free from bias in his ability to help the local taxpayers.&nbsp\;&nbsp\;</span></span><br />\n<br />\n&nbsp\;</p>\n
LOCATION:Niles Township Government Building Lee Tamraz All Purpose Room 5255 Main Street Skokie\, Illinois 60077
UID:e.362.3542
SEQUENCE:3
DTSTAMP:20260424T180217Z
URL:https://members.skokiechamber.org/events/details/2016-09-22-16-commercial-property-reassessment-info-session-with-assessor-bagnall-canceled-3542
END:VEVENT

END:VCALENDAR
