BEGIN:VCALENDAR
VERSION:2.0
PRODID:-//ChamberMaster//Event Calendar 2.0//EN
METHOD:PUBLISH
X-PUBLISHED-TTL:P3D
REFRESH-INTERVAL:P3D
CALSCALE:GREGORIAN
BEGIN:VEVENT
DTSTART:20200716T130000Z
DTEND:20200716T140000Z
X-MICROSOFT-CDO-ALLDAYEVENT:FALSE
SUMMARY:2020 07/16/2020: Skokie/Morton Grove/Lincolnwood Chambers' NETWORK NOW! Virtual Breakfast
DESCRIPTION:NETWORK NOW! Breakfast  is a monthly interactive networking experience involving formalized networking\, dynamic discussions\, and the sharing of expertise and knowledge.  This program is moderated by master networker Rebecca Bloomfield of Jerry S. Pearlstein Insurance Ltd.\n\n\n\nNow that virtual meetings are the new norm\, you'll want to join the Skokie\, Lincolnwood and Morton Grove Chambers as we resurrect our monthly NETWORK NOW! Breakfast  with this very timely presentation.  Learn how to make the most of your virtual meetings regardless of the platform you choose.\n\n \n\nNETWORK NOW! Breakfast   is presented by\n\nFirst Bank Chicago
X-ALT-DESC;FMTTYPE=text/html:<span style="color: rgb(128\, 0\, 0)\; font-family: tahoma\; font-size: 14px\; font-style: italic\; font-weight: 700\;">NETWORK NOW! Breakfast&nbsp\;</span><span style="color:#000000\;"><span style="font-family:tahoma\;"><span style="font-size: 14px\;">&nbsp\;is a monthly&nbsp\;interactive networking experience involving formalized networking\, dynamic discussions\, and the sharing of expertise and knowledge. &nbsp\;This program is moderated by master networker&nbsp\;Rebecca Bloomfield of Jerry S.&nbsp\;Pearlstein&nbsp\;Insurance Ltd.</span></span></span><br />\n<br />\n<span style="font-size:14px\;"><span style="font-family:tahoma\;"><span style="font-weight:bold\;language:en-US\;"><span style="color:#00334D\;">Now that virtual meetings are the new norm\, you&rsquo\;ll want to join the Skokie\, Lincolnwood and Morton Grove Chambers as we resurrect our monthly </span></span><span style="font-style:italic\;font-weight:bold\;language:en-US\;"><span style="color:maroon\;">NETWORK NOW! Breakfast&nbsp\; </span></span><span style="font-weight:bold\;language:en-US\;"><span style="color:#00334D\;">with this very timely presentation.&nbsp\; Learn how to make the most of your virtual meetings regardless of the platform you choose.</span></span><br />\n&nbsp\;</span></span><br />\n<span style="color: rgb(128\, 0\, 0)\; font-family: tahoma\; font-size: 14px\; font-style: italic\; font-weight: 700\;">NETWORK NOW! Breakfast&nbsp\;&nbsp\;</span><span style="color: rgb(0\, 51\, 77)\; font-family: tahoma\; font-size: 14px\; font-weight: 700\;">&nbsp\;is presented by<br />\n<span style="font-size:18px\;">First Bank Chicago</span></span>
LOCATION:on Zoom
UID:e.362.4759
SEQUENCE:3
DTSTAMP:20260425T021538Z
URL:https://members.skokiechamber.org/events/details/2020-07-16-2020-skokie-morton-grove-lincolnwood-chambers-network-now-virtual-breakfast-4759
END:VEVENT

END:VCALENDAR
