BEGIN:VCALENDAR
VERSION:2.0
PRODID:-//ChamberMaster//Event Calendar 2.0//EN
METHOD:PUBLISH
X-PUBLISHED-TTL:P3D
REFRESH-INTERVAL:P3D
CALSCALE:GREGORIAN
BEGIN:VEVENT
DTSTART:20200728T190000Z
DTEND:20200728T200000Z
X-MICROSOFT-CDO-ALLDAYEVENT:FALSE
SUMMARY:2020 07/28/2020: How to Stay Balanced
DESCRIPTION:Find balance with the Skokie\, Lincolnwood and Morton Grove Chambers of Commerce! Join Shelley Kleinman of Erasore for an interactive session using practical and simple methods to balance yourself for the long term. Finding more balance keeps your engine running smoothly with less breakdowns and repairs needed to go where you are headed in these turbulent times.\n\n\n\nShelley Sevelow Kleinman is a Physical Therapist by trade (with a hint of intuitive healing) who has focused her career on balancing the body and mind. Shelley created Erasore to reach the public as it is her desire to teach ways of healing pain as well as improving and maintaining the highest functional mobility throughout the lifespan\; for any body\, at any age. Besides earning her degree in 1988\, Shelley includes her experiences healing from her own injuries as a critical factor in her ability to break down and teach practices that can help most of the common ailments seen in our modern society. Erasore-erase the pain!
X-ALT-DESC;FMTTYPE=text/html:<span style="font-size:18px\;"><span style="font-family:comic sans ms\;"><span style="color:#C00000\;">Find balance with the Skokie\, Lincolnwood and Morton Grove Chambers of Commerce!&nbsp\;</span><span style="color:#0000C0\;">Join Shelley Kleinman of Erasore for an interactive session using practical and simple methods to balance yourself for the long term. Finding more balance keeps your engine running smoothly with less breakdowns and repairs needed to go where you are headed in these turbulent times.</span></span></span><br />\n<br />\n<span style="font-size:12px\;"><span style="font-family:comic sans ms\;"><span style="color:#000000\;">Shelley Sevelow Kleinman is a Physical Therapist by trade (with a hint of intuitive healing) who has focused her career on balancing the body and mind. Shelley created Erasore to reach the public as it is her desire to teach ways of healing pain as well as improving and maintaining the highest functional mobility throughout the lifespan\; for any body\, at any age. Besides earning her degree in 1988\, Shelley includes her experiences healing from her own injuries as a critical factor in her ability to break down and teach practices that can help most of the common ailments seen in our modern society. Erasore-erase the pain!</span></span></span><br />\n&nbsp\;
LOCATION:on ZOOM!
UID:e.362.4761
SEQUENCE:3
DTSTAMP:20260423T104514Z
URL:https://members.skokiechamber.org/events/details/2020-07-28-2020-how-to-stay-balanced-4761
END:VEVENT

END:VCALENDAR
