BEGIN:VCALENDAR
VERSION:2.0
PRODID:-//ChamberMaster//Event Calendar 2.0//EN
METHOD:PUBLISH
X-PUBLISHED-TTL:P3D
REFRESH-INTERVAL:P3D
CALSCALE:GREGORIAN
BEGIN:VEVENT
DTSTART:20260429T220000Z
DTEND:20260429T230000Z
X-MICROSOFT-CDO-ALLDAYEVENT:FALSE
SUMMARY:Caribana Island Bar and Grill Ribbon Cutting
DESCRIPTION:Ribbon cutting and grand opening celebration for Caribana Island Bar and Grill with Mayor Anne Tennes
X-ALT-DESC;FMTTYPE=text/html:Ribbon cutting and grand opening celebration for Caribana Island Bar and Grill with Mayor Anne Tennes
LOCATION:5203 Old Orchard Road Skokie\, IL
UID:e.362.11009
SEQUENCE:3
DTSTAMP:20260424T071311Z
URL:https://members.skokiechamber.org/events/details/caribana-island-bar-and-grill-ribbon-cutting-11009
END:VEVENT

END:VCALENDAR
