BEGIN:VCALENDAR
VERSION:2.0
PRODID:-//ChamberMaster//Event Calendar 2.0//EN
METHOD:PUBLISH
X-PUBLISHED-TTL:P3D
REFRESH-INTERVAL:P3D
CALSCALE:GREGORIAN
BEGIN:VEVENT
DTSTART:20260505T220000Z
DTEND:20260505T230000Z
X-MICROSOFT-CDO-ALLDAYEVENT:FALSE
SUMMARY:Crown Dental Club Ribbon Cutting
DESCRIPTION:Ribbon cutting and grand opening celebration for Crown Dental Club with Mayor Anne Tennes
X-ALT-DESC;FMTTYPE=text/html:Ribbon cutting and grand opening celebration for Crown Dental Club with Mayor Anne Tennes
LOCATION:5203 Old Orchard Road Skokie\, IL
UID:e.362.11010
SEQUENCE:3
DTSTAMP:20260424T070405Z
URL:https://members.skokiechamber.org/events/details/crown-dental-club-ribbon-cutting-11010
END:VEVENT

END:VCALENDAR
