BEGIN:VCALENDAR
VERSION:2.0
PRODID:-//ChamberMaster//Event Calendar 2.0//EN
METHOD:PUBLISH
X-PUBLISHED-TTL:P3D
REFRESH-INTERVAL:P3D
CALSCALE:GREGORIAN
BEGIN:VEVENT
DTSTART:20260501T220000Z
DTEND:20260502T000000Z
X-MICROSOFT-CDO-ALLDAYEVENT:FALSE
SUMMARY:Huntington Learning Business After Hours
DESCRIPTION:Kick of the weekend at a Business After Hours networking event at Huntington Learning Center
X-ALT-DESC;FMTTYPE=text/html:Kick of the weekend at a Business After Hours networking event at Huntington Learning Center
LOCATION:9448 Skokie Blvd.\, Skokie
UID:e.362.11011
SEQUENCE:3
DTSTAMP:20260424T074036Z
URL:https://members.skokiechamber.org/events/details/huntington-learning-business-after-hours-11011
END:VEVENT

END:VCALENDAR
