BEGIN:VCALENDAR
VERSION:2.0
PRODID:-//ChamberMaster//Event Calendar 2.0//EN
METHOD:PUBLISH
X-PUBLISHED-TTL:P3D
REFRESH-INTERVAL:P3D
CALSCALE:GREGORIAN
BEGIN:VEVENT
DTSTART:20260429T170000Z
DTEND:20260429T180000Z
X-MICROSOFT-CDO-ALLDAYEVENT:FALSE
SUMMARY:KaPow Collectibles Ribbon Cutting
DESCRIPTION:Ribbon cutting and grand opening celebration for KaPow Collectibles with Mayor Anne Tennes
X-ALT-DESC;FMTTYPE=text/html:Ribbon cutting and grand opening celebration for KaPow Collectibles with Mayor Anne Tennes
LOCATION:4921 Oakton Street Skokie\, IL
UID:e.362.11008
SEQUENCE:3
DTSTAMP:20260424T071014Z
URL:https://members.skokiechamber.org/events/details/kapow-collectibles-ribbon-cutting-11008
END:VEVENT

END:VCALENDAR
