BEGIN:VCALENDAR
VERSION:2.0
PRODID:-//ChamberMaster//Event Calendar 2.0//EN
METHOD:PUBLISH
X-PUBLISHED-TTL:P3D
REFRESH-INTERVAL:P3D
CALSCALE:GREGORIAN
BEGIN:VEVENT
DTSTART:20211109T230000Z
DTEND:20211110T010000Z
X-MICROSOFT-CDO-ALLDAYEVENT:FALSE
SUMMARY:Multi Chamber Business After Hours - Hosted by: OFFIX Lincolnwood & FMH Realty
DESCRIPTION:Multi Chamber After Hours\n\nTuesday\, November 9\n\n5-7pm\n\n\n\nThe Lincolnwood and Skokie Chambers of Commerce invite you to tour OFFIX\, a 7\,000 sq. ft. boutique business space solution. Private spaces\, amenities\, and community are designed to help take your business to the next level.\n\n\n\nComplimentary food and drinks will be provided.\n\n\n\nHosted by: OFFIX Lincolnwood & FMH Realty\n\nOFFIX\n\n7358 Lincoln Ave.\, Lincolnwood
X-ALT-DESC;FMTTYPE=text/html:<p style="text-align: center\;"><span style="color:#0000CD\;"><span style="font-size:24px\;">Multi Chamber After Hours</span></span></p>\n\n<p style="text-align: center\;">Tuesday\, November 9<br />\n5-7pm<br />\n<br />\nThe Lincolnwood and Skokie Chambers of Commerce invite you to tour OFFIX\, a 7\,000 sq. ft. boutique business space solution. Private spaces\, amenities\, and community are designed to help take your business to the next level.<br />\n<br />\nComplimentary food and drinks will be provided.<br />\n<br />\nHosted by: OFFIX Lincolnwood &amp\; FMH Realty</p>\n\n<p style="text-align: center\;">OFFIX<br />\n7358 Lincoln Ave.\, Lincolnwood</p>\n
LOCATION:OFFIX Lincolnwood 7538 Lincoln Ave. Lincolnwood\, IL 60712
UID:e.362.5374
SEQUENCE:3
DTSTAMP:20260424T174729Z
URL:https://members.skokiechamber.org/events/details/multi-chamber-business-after-hours-hosted-by-offix-lincolnwood-fmh-realty-5374
END:VEVENT

END:VCALENDAR
