BEGIN:VCALENDAR
VERSION:2.0
PRODID:-//ChamberMaster//Event Calendar 2.0//EN
METHOD:PUBLISH
X-PUBLISHED-TTL:P3D
REFRESH-INTERVAL:P3D
CALSCALE:GREGORIAN
BEGIN:VEVENT
DTSTART:20210216T180000Z
DTEND:20210216T193000Z
X-MICROSOFT-CDO-ALLDAYEVENT:FALSE
SUMMARY:Selling Digitally with RCN & eGuide: Session 1 of 3 NOW FREE!
DESCRIPTION:3-Part Webinar Series: Digital Tools for Small Business Success \n\n\n\nJoin the Evanston/ Skokie/ Lincolnwood Chambers' 3-part webinar series sponsored by RCN Business and presented by eGuide Tech Allies. Learn how to enhance your small business in a digital era!\n\n\n\nPresenter: Gregory Perrine of eGuide\n\n\n\nSession 1 Selling Digitally:  For businesses affected by the pandemic\, this session covers what to consider if you are taking your business digital. We cover self-developed or supported digital platforms\, how to target your products or services to a targeted audience and how to get a return on your investment.
X-ALT-DESC;FMTTYPE=text/html:<span style="color:#000080\;"><span style="font-size:16px\;"><span style="font-family:verdana\;"><span style="font-size:18px\;"><strong>3-Part Webinar Series: Digital Tools for Small Business Success </strong></span><br />\n<br />\nJoin the Evanston/ Skokie/ Lincolnwood Chambers&#39\; 3-part webinar series sponsored by RCN Business and presented by eGuide Tech Allies.&nbsp\;Learn how to enhance your small business in a digital era!<br />\n<br />\nPresenter: Gregory Perrine of eGuide</span><br />\n<br />\n<strong style="font-family: verdana\;">Session 1 Selling Digitally:&nbsp\;&nbsp\;</strong><span style="font-family: verdana\;">For businesses affected by the pandemic\, this session covers what to consider if you are taking your business digital. We cover self-developed or supported digital platforms\, how to target your products or services to a targeted audience and how to get a return on your investment.</span></span><br style="font-family: verdana\;" />\n<span style="font-family:verdana\;">&nbsp\;</span></span>
LOCATION:On Zoom!
UID:e.362.4797
SEQUENCE:3
DTSTAMP:20260425T103616Z
URL:https://members.skokiechamber.org/events/details/selling-digitally-with-rcn-eguide-session-1-of-3-now-free-4797
END:VEVENT

END:VCALENDAR
